BEGIN:VCALENDAR
VERSION:2.0
PRODID:-//https://ima.ufrj.br///NONSGML kigkonsult.se iCalcreator 2.10.15//
METHOD:PUBLISH
BEGIN:VEVENT
UID:20260425T150900-03-0040KPLvrj@https://ima.ufrj.br/
DTSTAMP:20260425T180900Z
DESCRIPTION:Saiba mais AQUI https://ima.ufrj.br/index.php/en/highlights/eve
 nts/event/150-programa-pec-pg-capes-para-doutorado-edital-n-12-2025
DTSTART:20260814T090000Z
DTEND:20260929T170000Z
LOCATION:Inscrições Online  ()
SUMMARY:Programa PEC-PG/CAPES para Doutorado (Edital nº 12/2025)
URL:https://ima.ufrj.br/index.php/en/highlights/events/event/150-programa-p
 ec-pg-capes-para-doutorado-edital-n-12-2025
END:VEVENT
BEGIN:VEVENT
UID:20260425T150900-03-0042UfT4oA@https://ima.ufrj.br/
DTSTAMP:20260425T180900Z
DESCRIPTION:Saiba mais AQUI! https://ima.ufrj.br/index.php/en/highlights/ev
 ents/event/153-a-ufrj-abriu-inscricoes-para-o-1-concurso-de-solucoes-inova
 doras-premio-engaja-ufrj-que-vai-premiar-propostas-da-comunidade-universit
 aria-com-premio-de-r-10-mil-para-as-iniciativas-selecionadas
DTSTART:20260515T000000Z
LOCATION:Inscrição Online ()
SUMMARY:A UFRJ abriu inscrições para o 1º Concurso de Soluções Inovadoras –
  Prêmio Engaja UFRJ\, que vai premiar propostas da comunidade universitári
 a\, com prêmio de R$ 10 mil para as iniciativas selecionadas.
URL:https://ima.ufrj.br/index.php/en/highlights/events/event/153-a-ufrj-abr
 iu-inscricoes-para-o-1-concurso-de-solucoes-inovadoras-premio-engaja-ufrj-
 que-vai-premiar-propostas-da-comunidade-universitaria-com-premio-de-r-10-m
 il-para-as-iniciativas-selecionadas
END:VEVENT
END:VCALENDAR
